BEGIN:VCALENDAR
VERSION:2.0
PRODID:-//Bustard Town - ECPv6.15.20//NONSGML v1.0//EN
CALSCALE:GREGORIAN
METHOD:PUBLISH
X-WR-CALNAME:Bustard Town
X-ORIGINAL-URL:https://bustardtown.com
X-WR-CALDESC:Events for Bustard Town
REFRESH-INTERVAL;VALUE=DURATION:PT1H
X-Robots-Tag:noindex
X-PUBLISHED-TTL:PT1H
BEGIN:VTIMEZONE
TZID:Australia/Darwin
BEGIN:STANDARD
TZOFFSETFROM:+0930
TZOFFSETTO:+0930
TZNAME:ACST
DTSTART:20230101T000000
END:STANDARD
END:VTIMEZONE
BEGIN:VEVENT
DTSTART;TZID=Australia/Darwin:20240801T190000
DTEND;TZID=Australia/Darwin:20240801T230000
DTSTAMP:20260425T204628
CREATED:20240728T224347Z
LAST-MODIFIED:20240728T224347Z
UID:2256-1722538800-1722553200@bustardtown.com
SUMMARY:Ripple Effect Band
DESCRIPTION:Join Ripple Effect Band on the Darwin City leg of their NT tour at Bustard Town on August 1 2024\, launching their latest single\, Na-kalamandjarda. Joined by special guests\, this amazing group of women musicians from West Arnhem Land will entertain you with their infectious energy\, stories and languages from their home community of Maningrida. \nTickets\nhttps://events.humanitix.com/ripple-effect-band-at-bustard-town/tickets
URL:https://bustardtown.com/event/ripple-effect-band/
LOCATION:Bustard Town\, Nuttall Place\, Darwin\, NT\, 0800\, Australia
ATTACH;FMTTYPE=image/jpeg:https://bustardtown.com/wp-content/uploads/2024/07/REB_august24.jpg
END:VEVENT
BEGIN:VEVENT
DTSTART;TZID=Australia/Darwin:20240802T193000
DTEND;TZID=Australia/Darwin:20240802T220000
DTSTAMP:20260425T204628
CREATED:20240728T235210Z
LAST-MODIFIED:20240728T235210Z
UID:2267-1722627000-1722636000@bustardtown.com
SUMMARY:Live Al Fresco
DESCRIPTION:Andy Golledge (NSW)\nWatty Thompson (Vic)\nSamara Cullen (Vic)\nDom Cooley (Qld)
URL:https://bustardtown.com/event/live-al-fresco/
LOCATION:Bustard Town\, Nuttall Place\, Darwin\, NT\, 0800\, Australia
CATEGORIES:al fresco
ATTACH;FMTTYPE=image/png:https://bustardtown.com/wp-content/uploads/2024/07/bustard-town-poster-1.png
END:VEVENT
BEGIN:VEVENT
DTSTART;TZID=Australia/Darwin:20240816T190000
DTEND;TZID=Australia/Darwin:20240816T220000
DTSTAMP:20260425T204628
CREATED:20240813T114546Z
LAST-MODIFIED:20240813T114547Z
UID:2324-1723834800-1723845600@bustardtown.com
SUMMARY:Archer
DESCRIPTION:Live on the Al Fresco stage \nThe one and only Archer\, wayfarer | musician | poet
URL:https://bustardtown.com/event/archer/
LOCATION:Bustard Town\, Nuttall Place\, Darwin\, NT\, 0800\, Australia
CATEGORIES:al fresco
ATTACH;FMTTYPE=image/jpeg:https://bustardtown.com/wp-content/uploads/2024/08/archer_aug24.jpg
END:VEVENT
BEGIN:VEVENT
DTSTART;TZID=Australia/Darwin:20240816T200000
DTEND;TZID=Australia/Darwin:20240816T233000
DTSTAMP:20260425T204628
CREATED:20240813T115501Z
LAST-MODIFIED:20240813T115501Z
UID:2329-1723838400-1723851000@bustardtown.com
SUMMARY:Batchelor Institute Music Showcase
DESCRIPTION:Come celebrate 50 years of the Batchelor Institute \nDrifting Clouds\nNormey J\nNathan Garawirrtja\nCassie A \nhttps://www.batchelor.edu.au/about/batchelor-institute-celebrates-50-years/\n$20 on the door
URL:https://bustardtown.com/event/batchelor-institute-music-showcase/
LOCATION:Bustard Town\, Nuttall Place\, Darwin\, NT\, 0800\, Australia
CATEGORIES:big room discotheque
ATTACH;FMTTYPE=image/jpeg:https://bustardtown.com/wp-content/uploads/2024/08/batcher_aug24.jpg
END:VEVENT
BEGIN:VEVENT
DTSTART;TZID=Australia/Darwin:20240817T200000
DTEND;TZID=Australia/Darwin:20240818T020000
DTSTAMP:20260425T204628
CREATED:20240729T093912Z
LAST-MODIFIED:20240729T093912Z
UID:2272-1723924800-1723946400@bustardtown.com
SUMMARY:Maritime Technica
DESCRIPTION:We Play Vinyl  \nA night of experimental house and techno sounds
URL:https://bustardtown.com/event/maritime-technica/
LOCATION:Bustard Town\, Nuttall Place\, Darwin\, NT\, 0800\, Australia
CATEGORIES:big room discotheque
ATTACH;FMTTYPE=image/jpeg:https://bustardtown.com/wp-content/uploads/2024/07/TUC-NT-TGMN-VIC.jpg
END:VEVENT
BEGIN:VEVENT
DTSTART;TZID=Australia/Darwin:20240823T190000
DTEND;TZID=Australia/Darwin:20240823T220000
DTSTAMP:20260425T204628
CREATED:20240820T035353Z
LAST-MODIFIED:20240820T040305Z
UID:2354-1724439600-1724450400@bustardtown.com
SUMMARY:Afro Moses ~ Allen Murphy ~ Special Guests
DESCRIPTION:Afro Moses live & direct on the Al Fresco stage \nWatch dɛm live with The Spirit 2+3 Band\nOne Show Only in d Night time… \nFree Entry… \nAfro Moses has a magnetic personality and a fabulous ability to enchant people with his high energy music\, powerful messages\, showmanship and colourful stage shows. His musical style included a blend of Afro beats\, reggae\, Highlife\, funk\, jazz\, raga\, salsa\, percussion\, his traditional folk music and much more. \nUsing traditional African instruments (eg. the kora\, mbira\, Seperewa\, gonde\, talking drum\, balafon – Afro plays 14 instruments\, blending them with modern grooves and technology to create a fusion of hot rhythms. The stage shows guarantee to uplift\, transport\, inspire and move everyone.  \nAfro Moses became a teenage star in Ghana and was soon producing number one songs and was the first young performer featured on the GTV national news. He was given the nickname “The African James Brown” for his funky music and dance style.  Soon after\, Afro Moses was noticed by one of Bob Marley’s tour Managers and taken to Europe. The same man jetted Youssou N’Dour out of Senegal in the 80’s. \n 	In Denmark\, he immediately made his mark taking out several awards such as Best Album\, Best Song and Best Live Act. From there\, he took his all Danish band “Ngogo Highlife &  ”Moses O’Jah” and toured the world\, including some of Europes biggest music festivals.. \n	Afro Moses has shared the stage with numerous iconic artists such as Miriam Makeba\, Salif Keita\, Ziggy and Rita Marley\, The Wailers and many more. In Denmark\, Afro Moses was also involved with the National Theatre Company\, teaching in schools and universities and performing with several bands and orchestras.  \nAfro first visited Australia at the end of 1999. His tour\, which consisted of’ his band coming directly from Ghana\, was sponsored by Triple J and was the biggest tour of any African performer in Australia. The band were featured on ABC TV – Studio 22\, Recovery\, The 10.30 slot\, as well as The Morning Show with Bert Newton and numerous radio stations across the country.   Next\, the band were invited back to perform as part of the 2000 Olympic Games\, where they performed at the athletes welcoming party and as part of the closing ceremony celebrations at Darling Harbour which attracted around 20\,000 people.\n *Afro Moses O’jah Band live\nPerformance @2000\nOlympics Games in Australia Darling Harbour …\n \n	◦	Afro Moses and band have also been in headline positions at many festivals such as the East Coast Blues and Roots Festival\, The Great Escape\, Peats Ridge Festival\, Darling Harbour for New Year’s Eve and many more in front of crowds up to 40\,000 people.\n	◦	Afro Moses was invited to compose music with Richard Tognetti\, Director of  the Australian Chamber Orchestra. Along with members from Midnight Oil and one of Australia’s most awarded studio producers\, Michael Yeserski.\nThey created music for a short film called “Inja”\, which was a nominee at the Oscar Awards in the USA in 2003.\n	◦	Afro Moses worked with Richard Tognetti and Michael Yeserski to create music for a film called “Cape of Storms” which was nominated for an APRA award in 2006.\n	◦	Richard Tognetti also featured Afro Moses at the Huntington Festival in December 2005\, which was broadcast on the ABC’s Classic FM across Australia.\n	◦	In 2007\, Afro was awarded a “Frater Award” for excellence in school performances by the Department of Education. \n	◦	Afro Moses has years of experience working with children and is known for his gentle nature\, enthusiasm and the ability to bring even the shyest child out of their shell.\n	◦	In both 2000 and 2002\, he was awarded as Ghana’s Best International Music Ambassador.\n	◦	2007 He was invited to perform as part of Ghana’s 50th anniversary of Indepence Day\, which was a major event with politicians\, musicians and other visitors from around the world. Afro performed at a festival on Labadi beach in front of 50\,000 people with Samini Batman and Lucky Dawuni.\n	◦	Afro has been personally invited to perform for the President of Ghana and his special guests on several occasions. Other performances have been with tours in Ghana\, Nigeria\, Togo etc with other top Ghanaian artists\, plus charity based festivals to raise money for Aids Orphans etc. Plus\, Afro takes it upon himself to visit and perform in hospitals\, schools and Jails when he is back in Ghana.\nGhana @50 live with Samini\n     \nAfro Moses Chooboi live in Ghana.
URL:https://bustardtown.com/event/afro-moses-allen-murphy-special-guests/
LOCATION:Bustard Town\, Nuttall Place\, Darwin\, NT\, 0800\, Australia
CATEGORIES:al fresco
ATTACH;FMTTYPE=image/jpeg:https://bustardtown.com/wp-content/uploads/2024/08/Afro-moses-horsetail-scaled-e1724125742264.jpg
END:VEVENT
BEGIN:VEVENT
DTSTART;TZID=Australia/Darwin:20240830T190000
DTEND;TZID=Australia/Darwin:20240830T220000
DTSTAMP:20260425T204628
CREATED:20240813T115946Z
LAST-MODIFIED:20240813T115946Z
UID:2334-1725044400-1725055200@bustardtown.com
SUMMARY:Jigsaw Collective
DESCRIPTION:Darwin’s master of impromtu dancefloors\nCome saee them in their natural setting\, outside and driving the vibe
URL:https://bustardtown.com/event/jigsaw-collective-3/
LOCATION:Bustard Town\, Nuttall Place\, Darwin\, NT\, 0800\, Australia
CATEGORIES:al fresco
ATTACH;FMTTYPE=image/jpeg:https://bustardtown.com/wp-content/uploads/2024/08/Jigsaw-HOMETOWN-tour-poster-V3.jpb_.jpeg
END:VEVENT
BEGIN:VEVENT
DTSTART;TZID=Australia/Darwin:20240830T210000
DTEND;TZID=Australia/Darwin:20240831T020000
DTSTAMP:20260425T204628
CREATED:20240720T072321Z
LAST-MODIFIED:20240720T075038Z
UID:2230-1725051600-1725069600@bustardtown.com
SUMMARY:Haiku Hands DJ set
DESCRIPTION:Get ready for a night of genre-blending beats and infectious energy as Haiku Hands dj take over Bustard Town. All the way from Melbourne\, Haiku Hands brings a euphoric mix of hip-hop\, electronic and pop rhythms that promise an unforgettable dance experience. Don’t miss this high-octane set. \nBeatrice\, an electrifying force in Australian music\, is a multi-talented producer and performer with Haiku Hands and Kardajala Kirridarra. As a solo artist\, she’s collaborated with Suzanne Ciani\, Theo Parrish\, and more\, and has supported heavyweight music acts like Jon Hopkins and Vegyn. Don’t miss her dynamic solo set!
URL:https://bustardtown.com/event/haiku-hands-dj-set/
LOCATION:Bustard Town\, Nuttall Place\, Darwin\, NT\, 0800\, Australia
CATEGORIES:big room discotheque
ATTACH;FMTTYPE=image/jpeg:https://bustardtown.com/wp-content/uploads/2024/07/HH_DJset.jpg
END:VEVENT
BEGIN:VEVENT
DTSTART;TZID=Australia/Darwin:20240831T200000
DTEND;TZID=Australia/Darwin:20240901T020000
DTSTAMP:20260425T204628
CREATED:20240813T120801Z
LAST-MODIFIED:20240813T120801Z
UID:2339-1725134400-1725156000@bustardtown.com
SUMMARY:Soul Train
DESCRIPTION:Get ready to go on a journey back in time when music was amazing.. \nCome get down for a groove at the ultimate Soul Train and Disco event @bustardtown \nJoin us Saturday 31st August for a night of nonstop dancing and funky beats from decades gone by. \nDJs Grace Murphy aka MISS MURPHY\, Winona Chance and Gova Yiannis Govatsos aka GOVA will keep the dancefloor alive with the best soul and disco classics your ears will hear. \nDon’t forget to channel your inner disco diva or funky soul brother by donning your optional wigs and flares for a night of retro fun.\nWith the dry season coming to an unfortunate end\, this is one party you do not want to miss \nFirst release tickets on sale now for just $10 \nHit the link or scan the QR code for tickets and event info \nhttps://events.humanitix.com/soul-train-party-bustard-town/tickets
URL:https://bustardtown.com/event/soul-train/
LOCATION:Bustard Town\, Nuttall Place\, Darwin\, NT\, 0800\, Australia
CATEGORIES:big room discotheque
ATTACH;FMTTYPE=image/jpeg:https://bustardtown.com/wp-content/uploads/2024/08/soul_train_aug24.jpg
END:VEVENT
END:VCALENDAR